BEGIN:VCALENDAR
VERSION:2.0
PRODID:-//First Nations Version · Rain Ministries - ECPv6.15.13//NONSGML v1.0//EN
CALSCALE:GREGORIAN
METHOD:PUBLISH
X-WR-CALNAME:First Nations Version · Rain Ministries
X-ORIGINAL-URL:https://firstnationsversion.com
X-WR-CALDESC:Events for First Nations Version · Rain Ministries
REFRESH-INTERVAL;VALUE=DURATION:PT1H
X-Robots-Tag:noindex
X-PUBLISHED-TTL:PT1H
BEGIN:VTIMEZONE
TZID:America/Phoenix
BEGIN:STANDARD
TZOFFSETFROM:-0700
TZOFFSETTO:-0700
TZNAME:MST
DTSTART:20250101T000000
END:STANDARD
END:VTIMEZONE
BEGIN:VEVENT
DTSTART;VALUE=DATE:20260421
DTEND;VALUE=DATE:20260424
DTSTAMP:20260421T015726
CREATED:20251031T180039Z
LAST-MODIFIED:20251212T181007Z
UID:31551-1776729600-1776988799@firstnationsversion.com
SUMMARY:Space for Grace Storytelling Conference April 21-23 2026
DESCRIPTION:Terry and Darlene will share our music and storytelling at the American Baptist Mission in Cleveland Ohio  for their annual conference. \nhttps://web.cvent.com/event/9262b119-fd54-477f-8410-b62625fd9e19/websitePage:810212e2-7f3f-4d57-b7c5-0b8674ef8b7c \n 
URL:https://firstnationsversion.com/event/american-baptist-home-mission-society-april-2026/
LOCATION:BC
CATEGORIES:First Nations Version,RainSong
END:VEVENT
END:VCALENDAR