BEGIN:VCALENDAR
VERSION:2.0
PRODID:-//First Nations Version · Rain Ministries - ECPv6.15.13//NONSGML v1.0//EN
CALSCALE:GREGORIAN
METHOD:PUBLISH
X-WR-CALNAME:First Nations Version · Rain Ministries
X-ORIGINAL-URL:https://firstnationsversion.com
X-WR-CALDESC:Events for First Nations Version · Rain Ministries
REFRESH-INTERVAL;VALUE=DURATION:PT1H
X-Robots-Tag:noindex
X-PUBLISHED-TTL:PT1H
BEGIN:VTIMEZONE
TZID:America/Phoenix
BEGIN:STANDARD
TZOFFSETFROM:-0700
TZOFFSETTO:-0700
TZNAME:MST
DTSTART:20210101T000000
END:STANDARD
END:VTIMEZONE
BEGIN:VEVENT
DTSTART;TZID=America/Phoenix:20221102T100000
DTEND;TZID=America/Phoenix:20221102T233000
DTSTAMP:20260421T201204
CREATED:20220921T214911Z
LAST-MODIFIED:20220921T214911Z
UID:30581-1667383200-1667431800@firstnationsversion.com
SUMMARY:Azusa Pacific University Chapel
DESCRIPTION:Terry will speak to the students regarding the First Nations Version and provide a time for Q and A.  Darlene will accompany on the flute during readings. More info coming soon…
URL:https://firstnationsversion.com/event/azusa-pacific-university-chapel/
LOCATION:Azusa Pacific University\, 901 E. Alosta Ave\, Azusa\, CA\, 91702\, United States
CATEGORIES:First Nations Version
END:VEVENT
BEGIN:VEVENT
DTSTART;TZID=America/Phoenix:20221106T093000
DTEND;TZID=America/Phoenix:20221106T113000
DTSTAMP:20260421T201204
CREATED:20220906T200450Z
LAST-MODIFIED:20220906T200956Z
UID:30561-1667727000-1667734200@firstnationsversion.com
SUMMARY:RainSong at Desert Springs Bible Church\, Phoenix Arizona
DESCRIPTION:RainSong will share our music and storytelling with this Sacred Family of Jesus followers.
URL:https://firstnationsversion.com/event/rainsong-at-desert-springs-bible-church/
LOCATION:Desert Springs Bible Church\, 16215 N Tatum Blvd\, Phoenix\, AZ\, United States
CATEGORIES:First Nations Version,RainSong
END:VEVENT
END:VCALENDAR