BEGIN:VCALENDAR
VERSION:2.0
PRODID:-//First Nations Version · Rain Ministries - ECPv6.15.13//NONSGML v1.0//EN
CALSCALE:GREGORIAN
METHOD:PUBLISH
X-ORIGINAL-URL:https://firstnationsversion.com
X-WR-CALDESC:Events for First Nations Version · Rain Ministries
REFRESH-INTERVAL;VALUE=DURATION:PT1H
X-Robots-Tag:noindex
X-PUBLISHED-TTL:PT1H
BEGIN:VTIMEZONE
TZID:America/Phoenix
BEGIN:STANDARD
TZOFFSETFROM:-0700
TZOFFSETTO:-0700
TZNAME:MST
DTSTART:20220101T000000
END:STANDARD
END:VTIMEZONE
BEGIN:VEVENT
DTSTART;VALUE=DATE:20230911
DTEND;VALUE=DATE:20230912
DTSTAMP:20260421T030637
CREATED:20230811T205353Z
LAST-MODIFIED:20230911T020251Z
UID:30815-1694390400-1694476799@firstnationsversion.com
SUMMARY:Furman University - Lecture - September 11 2023
DESCRIPTION:Terry Wildman will present an Academic Lecture with Q & R regarding Bible Translation and the First Nations Version. \nThe lecture will be Monday evening at 6:30 pm in the Plyler Science building in Patrick lecture Hall.   Plyler is building 29 on the map at this link.  there is a parking area right across from the building. \nDirections for anyone who wants to attend the lecture:  One enters the campus from the front gate\, goes around a circle and drives down a long mall.   You pass the first building on the right which is Furman Hall.  Next you pass the library which has a water pool in front of it and then Plyler hall will be next on the right (The chapel with a steeple with be on the other side of the mall opposite the library.  Turn left to go to the other side of the mall.  Parking area is behind a hedge of bushes.
URL:https://firstnationsversion.com/event/furman-university-lecture-september-11-2023/
LOCATION:CA
CATEGORIES:First Nations Version
END:VEVENT
BEGIN:VEVENT
DTSTART;VALUE=DATE:20230929
DTEND;VALUE=DATE:20231002
DTSTAMP:20260421T030637
CREATED:20230704T064232Z
LAST-MODIFIED:20230927T041915Z
UID:30759-1695945600-1696204799@firstnationsversion.com
SUMMARY:First Nations Truth and Reconciliation Event - Canada
DESCRIPTION:Terry and Darlene will share their music\, storytelling\, a perspectives with schools in Canada\, in recognition of the first official Truth and Reconciliation Day in Canada. They plan to bring several schools together for a weekend of  sharing and honoring Native peoples.
URL:https://firstnationsversion.com/event/first-nations-truth-and-reconciliation-event/
LOCATION:Pacific Academy\, 10238 168 Street\, Surrey BC\, V4N 1Z4\, Surrey\, British Columbia\, PurV4N 1Z4\, Canada
CATEGORIES:First Nations Version,RainSong
END:VEVENT
END:VCALENDAR