BEGIN:VCALENDAR
VERSION:2.0
PRODID:-//First Nations Version · Rain Ministries - ECPv6.15.13//NONSGML v1.0//EN
CALSCALE:GREGORIAN
METHOD:PUBLISH
X-WR-CALNAME:First Nations Version · Rain Ministries
X-ORIGINAL-URL:https://firstnationsversion.com
X-WR-CALDESC:Events for First Nations Version · Rain Ministries
REFRESH-INTERVAL;VALUE=DURATION:PT1H
X-Robots-Tag:noindex
X-PUBLISHED-TTL:PT1H
BEGIN:VTIMEZONE
TZID:America/Phoenix
BEGIN:STANDARD
TZOFFSETFROM:-0700
TZOFFSETTO:-0700
TZNAME:MST
DTSTART:20220101T000000
END:STANDARD
END:VTIMEZONE
BEGIN:VEVENT
DTSTART;TZID=America/Phoenix:20231105T183000
DTEND;TZID=America/Phoenix:20231105T210000
DTSTAMP:20260421T015810
CREATED:20230919T190537Z
LAST-MODIFIED:20231027T160700Z
UID:30828-1699209000-1699218000@firstnationsversion.com
SUMMARY:Fellowship Center for Racial Reconciliation - Nov 5th 2023
DESCRIPTION:Location:  Mountainside Communion\, 303 W Colorado Blvd\, Monrovia\, CA 91016\nTerry will be speaking on the FNV. “Being Who Creator Made us to Be: An Evening with the Lead Translator of the First Nations Version.” \nAs RainSong we will also share music and storytelling. \n  \n 
URL:https://firstnationsversion.com/event/fellowship-center-for-racial-reconciliation-nov-5th-2023/
LOCATION:Mountainside Communion\, 303 W Colorado Blvd\, Monrovia\, CA\, 91016\, United States
CATEGORIES:First Nations Version,RainSong
END:VEVENT
BEGIN:VEVENT
DTSTART;TZID=America/Phoenix:20231106T100000
DTEND;TZID=America/Phoenix:20231106T170000
DTSTAMP:20260421T015810
CREATED:20230728T004646Z
LAST-MODIFIED:20230728T004646Z
UID:30793-1699264800-1699290000@firstnationsversion.com
SUMMARY:Azusa Pacific University Chapel - Nov 6th 2023
DESCRIPTION:Terry and Darlene will lead the chapel service with music and storytelling. Terry will speak to the students about worship in other cultures and provide a time for Q and A. \n 
URL:https://firstnationsversion.com/event/azusa-pacific-university-chapel-nov-6th-2023/
LOCATION:CA
CATEGORIES:First Nations Version,RainSong
END:VEVENT
BEGIN:VEVENT
DTSTART;TZID=America/Phoenix:20231112T100000
DTEND;TZID=America/Phoenix:20231112T233000
DTSTAMP:20260421T015810
CREATED:20230728T003619Z
LAST-MODIFIED:20230728T003619Z
UID:30785-1699783200-1699831800@firstnationsversion.com
SUMMARY:Mountain Shadows Presbyterian Church - Nov 12th 2023
DESCRIPTION:Terry and Darlene will speak and share storytelling from the First Nations Version during the Sunday morning service.  Community welcome. \nWho We Are \n \n  \n 
URL:https://firstnationsversion.com/event/mountain-shadows-presbyterian-church-nov-12th-2023/
LOCATION:Mountian Shadows Presbyterian Church\, 3201 E Mountainare Dr.\, Tucson\, AZ\, 85739\, United States
CATEGORIES:First Nations Version
END:VEVENT
BEGIN:VEVENT
DTSTART;VALUE=DATE:20231113
DTEND;VALUE=DATE:20231115
DTSTAMP:20260421T015810
CREATED:20230811T174659Z
LAST-MODIFIED:20231111T172900Z
UID:30799-1699833600-1700006399@firstnationsversion.com
SUMMARY:SMU Perkins Fall Convocation - Nov 13-14\, 2023
DESCRIPTION:Perkins Fall Convocation is an annual gathering highlighting various intersections of faith and culture through relevant lectures\, presentations\, workshops and liturgical expressions around a selected theme. Formerly Ministers Week\, Fall Convocation offers a broad learning community for church and community leaders alike.\nFall Convocation 2023:\nHow We Engage the Bible\, November 13-14\, 2023\nTerry Wildman is scheduled to be the opening speaker discussing the First Nations Version Translation and the Bible and Indigenous people of North America.
URL:https://firstnationsversion.com/event/smu-perkins-2023-convocation-nov-13-14/
LOCATION:SMU Perkins School of Theology\, 6001 Bishop Doulevard\, Dallas\, TX\, 75275\, United States
CATEGORIES:First Nations Version
END:VEVENT
END:VCALENDAR