BEGIN:VCALENDAR
VERSION:2.0
PRODID:-//First Nations Version · Rain Ministries - ECPv6.15.13//NONSGML v1.0//EN
CALSCALE:GREGORIAN
METHOD:PUBLISH
X-ORIGINAL-URL:https://firstnationsversion.com
X-WR-CALDESC:Events for First Nations Version · Rain Ministries
REFRESH-INTERVAL;VALUE=DURATION:PT1H
X-Robots-Tag:noindex
X-PUBLISHED-TTL:PT1H
BEGIN:VTIMEZONE
TZID:America/Phoenix
BEGIN:STANDARD
TZOFFSETFROM:-0700
TZOFFSETTO:-0700
TZNAME:MST
DTSTART:20200101T000000
END:STANDARD
END:VTIMEZONE
BEGIN:VEVENT
DTSTART;TZID=America/Phoenix:20211025T170000
DTEND;TZID=America/Phoenix:20211025T180000
DTSTAMP:20260422T151549
CREATED:20211019T182524Z
LAST-MODIFIED:20211019T183227Z
UID:30261-1635181200-1635184800@firstnationsversion.com
SUMMARY:Good Medicine Way Online Gathering
DESCRIPTION:Terry will be the guest speaker at the Good Medicine Way online gathering. 5:00 pm MST and PDT\, 6:00 pm MDT\, 7:00 pm CDT\, 8:00 pm EDT.
URL:https://firstnationsversion.com/event/good-medicine-way-online-gathering/
LOCATION:CA
CATEGORIES:First Nations Version
END:VEVENT
END:VCALENDAR