BEGIN:VCALENDAR
VERSION:2.0
PRODID:-//First Nations Version · Rain Ministries - ECPv6.15.13//NONSGML v1.0//EN
CALSCALE:GREGORIAN
METHOD:PUBLISH
X-ORIGINAL-URL:https://firstnationsversion.com
X-WR-CALDESC:Events for First Nations Version · Rain Ministries
REFRESH-INTERVAL;VALUE=DURATION:PT1H
X-Robots-Tag:noindex
X-PUBLISHED-TTL:PT1H
BEGIN:VTIMEZONE
TZID:America/New_York
BEGIN:DAYLIGHT
TZOFFSETFROM:-0500
TZOFFSETTO:-0400
TZNAME:EDT
DTSTART:20220313T070000
END:DAYLIGHT
BEGIN:STANDARD
TZOFFSETFROM:-0400
TZOFFSETTO:-0500
TZNAME:EST
DTSTART:20221106T060000
END:STANDARD
BEGIN:DAYLIGHT
TZOFFSETFROM:-0500
TZOFFSETTO:-0400
TZNAME:EDT
DTSTART:20230312T070000
END:DAYLIGHT
BEGIN:STANDARD
TZOFFSETFROM:-0400
TZOFFSETTO:-0500
TZNAME:EST
DTSTART:20231105T060000
END:STANDARD
BEGIN:DAYLIGHT
TZOFFSETFROM:-0500
TZOFFSETTO:-0400
TZNAME:EDT
DTSTART:20240310T070000
END:DAYLIGHT
BEGIN:STANDARD
TZOFFSETFROM:-0400
TZOFFSETTO:-0500
TZNAME:EST
DTSTART:20241103T060000
END:STANDARD
END:VTIMEZONE
BEGIN:VEVENT
DTSTART;TZID=America/New_York:20230602T190000
DTEND;TZID=America/New_York:20230604T120000
DTSTAMP:20260421T095111
CREATED:20230128T012948Z
LAST-MODIFIED:20230227T155615Z
UID:30673-1685732400-1685880000@firstnationsversion.com
SUMMARY:Seeking Common Ground - RainSong at Dominican Retreat Ctr - June 2-4
DESCRIPTION:Seeking Common Ground:\nA Retreat with the First Nations Version\, An Indigenous Translation of the New Testament Guided by Terry and Darlene Wildman\nJune 2-4\, 2023\nDominican Retreat and Conference Center \n1945 Union Street (Route 7)…Niskayuna\, NY 12309\n518-393-4169 \n\n\n\nPDF Conference info: https://firstnationsversion.com/wp-content/uploads/2023/02/First-Nations-Retreat.pdf \nRegistration info and link: https://www.mychurchevents.com/calendar/57658696/event/269362577/2023-06-02
URL:https://firstnationsversion.com/event/seeking-common-ground-rainsong-at-dominican-retreat-ctr-june-2-4/
LOCATION:Dominican Retreat and Conference Center\, 1945 Union St\, Niskayuna\, NY\, 12309\, United States
CATEGORIES:First Nations Version,RainSong
END:VEVENT
END:VCALENDAR