BEGIN:VCALENDAR
VERSION:2.0
PRODID:-//First Nations Version · Rain Ministries - ECPv6.15.13//NONSGML v1.0//EN
CALSCALE:GREGORIAN
METHOD:PUBLISH
X-WR-CALNAME:First Nations Version · Rain Ministries
X-ORIGINAL-URL:https://firstnationsversion.com
X-WR-CALDESC:Events for First Nations Version · Rain Ministries
REFRESH-INTERVAL;VALUE=DURATION:PT1H
X-Robots-Tag:noindex
X-PUBLISHED-TTL:PT1H
BEGIN:VTIMEZONE
TZID:America/Phoenix
BEGIN:STANDARD
TZOFFSETFROM:-0700
TZOFFSETTO:-0700
TZNAME:MST
DTSTART:20220101T000000
END:STANDARD
END:VTIMEZONE
BEGIN:VEVENT
DTSTART;TZID=America/Phoenix:20230625T103000
DTEND;TZID=America/Phoenix:20230625T120000
DTSTAMP:20260421T094646
CREATED:20230623T182129Z
LAST-MODIFIED:20230623T182129Z
UID:30753-1687689000-1687694400@firstnationsversion.com
SUMMARY:RainSong at Vineyard in Gilbert AZ - June 25th
DESCRIPTION:Terry and Darlene will help lead worship and Terry will speak.
URL:https://firstnationsversion.com/event/rainsong-at-vineyard-in-gilbert-az-june-25th/
LOCATION:Vineyard Community Church Gilbert AZ\, 601 S. Cooper Rd.\, Gilbert\, AZ\, 85233\, United States
CATEGORIES:First Nations Version,RainSong
END:VEVENT
END:VCALENDAR