BEGIN:VCALENDAR
VERSION:2.0
PRODID:-//First Nations Version · Rain Ministries - ECPv6.15.13//NONSGML v1.0//EN
CALSCALE:GREGORIAN
METHOD:PUBLISH
X-WR-CALNAME:First Nations Version · Rain Ministries
X-ORIGINAL-URL:https://firstnationsversion.com
X-WR-CALDESC:Events for First Nations Version · Rain Ministries
REFRESH-INTERVAL;VALUE=DURATION:PT1H
X-Robots-Tag:noindex
X-PUBLISHED-TTL:PT1H
BEGIN:VTIMEZONE
TZID:America/Phoenix
BEGIN:STANDARD
TZOFFSETFROM:-0700
TZOFFSETTO:-0700
TZNAME:MST
DTSTART:20220101T000000
END:STANDARD
END:VTIMEZONE
BEGIN:VEVENT
DTSTART;TZID=America/Phoenix:20231024T090000
DTEND;TZID=America/Phoenix:20231024T110000
DTSTAMP:20260421T030616
CREATED:20230811T181018Z
LAST-MODIFIED:20230811T181228Z
UID:30806-1698138000-1698145200@firstnationsversion.com
SUMMARY:BGU Phoenix Immersion - Indigenous Day - Oct 24\, 2023
DESCRIPTION:Bakke Graduate University\nBakke Graduate University (BGU) is the place to learn the new realities of the global\, urban world. A major reason is our network. BGU is connected to and building on a global\, urban\, theological network created over 30 years by Ray Bakke and others. That extensive network gives BGU unique access to the thinkers\, leaders\, and practitioners in the global Christian church. \nTerry and Darlene will be presenters on this day from 9:00 to 11:00 am.  Following that they will spend the day visiting the Indian Boarding School and dinner at the Frybread House. \n 
URL:https://firstnationsversion.com/event/bgu-phoenix-immersion-indigenous-day-oct-24-2023/
LOCATION:CA
CATEGORIES:First Nations Version
END:VEVENT
END:VCALENDAR