BEGIN:VCALENDAR
VERSION:2.0
PRODID:-//First Nations Version · Rain Ministries - ECPv6.15.13//NONSGML v1.0//EN
CALSCALE:GREGORIAN
METHOD:PUBLISH
X-ORIGINAL-URL:https://firstnationsversion.com
X-WR-CALDESC:Events for First Nations Version · Rain Ministries
REFRESH-INTERVAL;VALUE=DURATION:PT1H
X-Robots-Tag:noindex
X-PUBLISHED-TTL:PT1H
BEGIN:VTIMEZONE
TZID:America/Phoenix
BEGIN:STANDARD
TZOFFSETFROM:-0700
TZOFFSETTO:-0700
TZNAME:MST
DTSTART:20220101T000000
END:STANDARD
END:VTIMEZONE
BEGIN:VEVENT
DTSTART;TZID=America/Phoenix:20231105T183000
DTEND;TZID=America/Phoenix:20231105T210000
DTSTAMP:20260421T020342
CREATED:20230919T190537Z
LAST-MODIFIED:20231027T160700Z
UID:30828-1699209000-1699218000@firstnationsversion.com
SUMMARY:Fellowship Center for Racial Reconciliation - Nov 5th 2023
DESCRIPTION:Location:  Mountainside Communion\, 303 W Colorado Blvd\, Monrovia\, CA 91016\nTerry will be speaking on the FNV. “Being Who Creator Made us to Be: An Evening with the Lead Translator of the First Nations Version.” \nAs RainSong we will also share music and storytelling. \n  \n 
URL:https://firstnationsversion.com/event/fellowship-center-for-racial-reconciliation-nov-5th-2023/
LOCATION:Mountainside Communion\, 303 W Colorado Blvd\, Monrovia\, CA\, 91016\, United States
CATEGORIES:First Nations Version,RainSong
END:VEVENT
END:VCALENDAR