BEGIN:VCALENDAR
VERSION:2.0
PRODID:-//First Nations Version · Rain Ministries - ECPv6.15.13//NONSGML v1.0//EN
CALSCALE:GREGORIAN
METHOD:PUBLISH
X-WR-CALNAME:First Nations Version · Rain Ministries
X-ORIGINAL-URL:https://firstnationsversion.com
X-WR-CALDESC:Events for First Nations Version · Rain Ministries
REFRESH-INTERVAL;VALUE=DURATION:PT1H
X-Robots-Tag:noindex
X-PUBLISHED-TTL:PT1H
BEGIN:VTIMEZONE
TZID:America/Phoenix
BEGIN:STANDARD
TZOFFSETFROM:-0700
TZOFFSETTO:-0700
TZNAME:MST
DTSTART:20200101T000000
END:STANDARD
END:VTIMEZONE
BEGIN:VTIMEZONE
TZID:America/Indiana/Indianapolis
BEGIN:DAYLIGHT
TZOFFSETFROM:-0500
TZOFFSETTO:-0400
TZNAME:EDT
DTSTART:20210314T070000
END:DAYLIGHT
BEGIN:STANDARD
TZOFFSETFROM:-0400
TZOFFSETTO:-0500
TZNAME:EST
DTSTART:20211107T060000
END:STANDARD
BEGIN:DAYLIGHT
TZOFFSETFROM:-0500
TZOFFSETTO:-0400
TZNAME:EDT
DTSTART:20220313T070000
END:DAYLIGHT
BEGIN:STANDARD
TZOFFSETFROM:-0400
TZOFFSETTO:-0500
TZNAME:EST
DTSTART:20221106T060000
END:STANDARD
BEGIN:DAYLIGHT
TZOFFSETFROM:-0500
TZOFFSETTO:-0400
TZNAME:EDT
DTSTART:20230312T070000
END:DAYLIGHT
BEGIN:STANDARD
TZOFFSETFROM:-0400
TZOFFSETTO:-0500
TZNAME:EST
DTSTART:20231105T060000
END:STANDARD
END:VTIMEZONE
BEGIN:VTIMEZONE
TZID:America/Detroit
BEGIN:DAYLIGHT
TZOFFSETFROM:-0500
TZOFFSETTO:-0400
TZNAME:EDT
DTSTART:20200308T070000
END:DAYLIGHT
BEGIN:STANDARD
TZOFFSETFROM:-0400
TZOFFSETTO:-0500
TZNAME:EST
DTSTART:20201101T060000
END:STANDARD
BEGIN:DAYLIGHT
TZOFFSETFROM:-0500
TZOFFSETTO:-0400
TZNAME:EDT
DTSTART:20210314T070000
END:DAYLIGHT
BEGIN:STANDARD
TZOFFSETFROM:-0400
TZOFFSETTO:-0500
TZNAME:EST
DTSTART:20211107T060000
END:STANDARD
BEGIN:DAYLIGHT
TZOFFSETFROM:-0500
TZOFFSETTO:-0400
TZNAME:EDT
DTSTART:20220313T070000
END:DAYLIGHT
BEGIN:STANDARD
TZOFFSETFROM:-0400
TZOFFSETTO:-0500
TZNAME:EST
DTSTART:20221106T060000
END:STANDARD
END:VTIMEZONE
BEGIN:VTIMEZONE
TZID:America/Los_Angeles
BEGIN:DAYLIGHT
TZOFFSETFROM:-0800
TZOFFSETTO:-0700
TZNAME:PDT
DTSTART:20200308T100000
END:DAYLIGHT
BEGIN:STANDARD
TZOFFSETFROM:-0700
TZOFFSETTO:-0800
TZNAME:PST
DTSTART:20201101T090000
END:STANDARD
BEGIN:DAYLIGHT
TZOFFSETFROM:-0800
TZOFFSETTO:-0700
TZNAME:PDT
DTSTART:20210314T100000
END:DAYLIGHT
BEGIN:STANDARD
TZOFFSETFROM:-0700
TZOFFSETTO:-0800
TZNAME:PST
DTSTART:20211107T090000
END:STANDARD
BEGIN:DAYLIGHT
TZOFFSETFROM:-0800
TZOFFSETTO:-0700
TZNAME:PDT
DTSTART:20220313T100000
END:DAYLIGHT
BEGIN:STANDARD
TZOFFSETFROM:-0700
TZOFFSETTO:-0800
TZNAME:PST
DTSTART:20221106T090000
END:STANDARD
END:VTIMEZONE
BEGIN:VEVENT
DTSTART;VALUE=DATE:20220728
DTEND;VALUE=DATE:20220801
DTSTAMP:20260421T015958
CREATED:20220615T200437Z
LAST-MODIFIED:20220615T200437Z
UID:30378-1658966400-1659311999@firstnationsversion.com
SUMMARY:Wiconi Family Camp July 28-31 2022
DESCRIPTION:RainSong will be sharing some of our music and storytelling and Terry will lead a workshop on the First Nations Version.
URL:https://firstnationsversion.com/event/wiconi-family-camp-july-28-31-2022/
LOCATION:Wiconi Family Camp\, 7790 Marion Rd\, Turner\, OR\, United States
CATEGORIES:First Nations Version,RainSong
END:VEVENT
BEGIN:VEVENT
DTSTART;TZID=America/Indiana/Indianapolis:20220123T100000
DTEND;TZID=America/Indiana/Indianapolis:20220123T120000
DTSTAMP:20260421T015958
CREATED:20211201T223650Z
LAST-MODIFIED:20211231T010907Z
UID:30282-1642932000-1642939200@firstnationsversion.com
SUMMARY:RainSong at Heartland Church Ft. Wayne IN
DESCRIPTION:10:00 am RainSong\, Terry and Darlene Wildman will be with our friends at Heartland Church in Fort Wayne Indiana. RainSong will help lead the music service and Terry will speak on the First Nations Version. Mark your calendars for Sunday\, January 23rd at 10:00 am. \n5:00 pm Walking the Good Road Together \nIn January 2010 Heartland church hosted an event honoring the Miami Nation of Indians of Indiana. The event was called Restoring Ancient Gates. Terry and Darlene Wildman helped to plan and lead the gathering. Since that time there have been several shared events held both at the Miami Powwow near Rockville Indiana and at Heartland Church.  \nOn Sunday evening January 23rd\, Heartland will host another shared event called Walking the Good Road Together. RainSong will lead a time of music and storytelling. The Miami Drum will share some of their songs and Chief Brian Buchanan will speak about what is happening with the Maimi of Indiana. \nSchedule \n5:00 pm a meal together served at Heartland Church \n6:00 pm Music by RainSong and the Miami Drum \n7:00 pm Chief Buchanan \n7:30 pm Coffee and Fellowship
URL:https://firstnationsversion.com/event/rainsong-at-heartland-church-ft-wayne-in/
LOCATION:Heartland Church\, 1025 Vance Ave\, Ft. Wayne\, IN\, 46805\, United States
CATEGORIES:First Nations Version,RainSong
END:VEVENT
BEGIN:VEVENT
DTSTART;TZID=America/Phoenix:20211025T170000
DTEND;TZID=America/Phoenix:20211025T180000
DTSTAMP:20260421T015958
CREATED:20211019T182524Z
LAST-MODIFIED:20211019T183227Z
UID:30261-1635181200-1635184800@firstnationsversion.com
SUMMARY:Good Medicine Way Online Gathering
DESCRIPTION:Terry will be the guest speaker at the Good Medicine Way online gathering. 5:00 pm MST and PDT\, 6:00 pm MDT\, 7:00 pm CDT\, 8:00 pm EDT.
URL:https://firstnationsversion.com/event/good-medicine-way-online-gathering/
LOCATION:MI
CATEGORIES:First Nations Version
END:VEVENT
BEGIN:VEVENT
DTSTART;TZID=America/Detroit:20210904T130000
DTEND;TZID=America/Detroit:20210904T170000
DTSTAMP:20260421T015958
CREATED:20210806T185842Z
LAST-MODIFIED:20210819T152122Z
UID:29994-1630760400-1630774800@firstnationsversion.com
SUMMARY:The Gathering of the People
DESCRIPTION:On Saturday\, Sept 4th from 1-5 pm EDT RainSong will share our music and storytelling at this open-air event on a beautiful piece of land on the Maple River. It is going to be a unique event. Bring your lawn chairs if you can. Part-a-potties will be provided. Contact Warren and Barb Petoskey at wpetoskey@yahoo.com for more information.
URL:https://firstnationsversion.com/event/the-gathering-of-the-people/
LOCATION:An Open-Air event on Woodland Rd between the Dam Site Inn and the Maple River Bridge\, 6705 Woodland Rd\, Pellston\, MI\, 49769\, United States
CATEGORIES:First Nations Version,RainSong
END:VEVENT
BEGIN:VEVENT
DTSTART;VALUE=DATE:20210827
DTEND;VALUE=DATE:20210830
DTSTAMP:20260421T015958
CREATED:20210806T140011Z
LAST-MODIFIED:20210806T235315Z
UID:29979-1630022400-1630281599@firstnationsversion.com
SUMMARY:Telling Creator's Story
DESCRIPTION:Listen as Terry Wildman retells Creator’s Story — introducing the First Nation Version — and experience the Scriptures in a fresh new way. \nAugust 27\nMinistry Leader’s Luncheon\n12:00 p.m. at Faith Reformed Church \nAugust 28\nPotluck\, Music and Storytelling with Terry and Darlene Wildman\n6:00 p.m. Potluck\n7:00 p.m. Music and Storytelling at Northport Indian UMC’s Indian Campground \nAugust 29\nWorship Celebration\n10:00 a.m. at Watershed Church \nMore information at watershedtc.org/FNV \n 
URL:https://firstnationsversion.com/event/telling-creators-story/
LOCATION:Watershed Church\, 720 S. Elmwood\, Traverse City\, MI\, 49684\, United States
CATEGORIES:First Nations Version,RainSong
END:VEVENT
END:VCALENDAR